BEGIN:VCALENDAR
VERSION:2.0
PRODID:-//gmka.or.id - ECPv6.15.18//NONSGML v1.0//EN
CALSCALE:GREGORIAN
METHOD:PUBLISH
X-WR-CALNAME:gmka.or.id
X-ORIGINAL-URL:https://gmka.or.id
X-WR-CALDESC:Events for gmka.or.id
REFRESH-INTERVAL;VALUE=DURATION:PT1H
X-Robots-Tag:noindex
X-PUBLISHED-TTL:PT1H
BEGIN:VTIMEZONE
TZID:Asia/Jakarta
BEGIN:STANDARD
TZOFFSETFROM:+0700
TZOFFSETTO:+0700
TZNAME:WIB
DTSTART:20240101T000000
END:STANDARD
END:VTIMEZONE
BEGIN:VEVENT
DTSTART;TZID=Asia/Jakarta:20250801T110000
DTEND;TZID=Asia/Jakarta:20250801T130000
DTSTAMP:20260420T163535
CREATED:20250613T000323Z
LAST-MODIFIED:20250613T002617Z
UID:1733-1754046000-1754053200@gmka.or.id
SUMMARY:Misa Yubileum & Sakramen Tobat
DESCRIPTION:Misa Yubileum & Sakramen Tobat di Pelataran Doa dan Ruang Serba Guna
URL:https://gmka.or.id/event/misa-yubileum-sakramen-tobat-2/
CATEGORIES:Yubileum
ATTACH;FMTTYPE=image/webp:https://gmka.or.id/wp-content/uploads/2025/06/Screenshot-2025-04-03-at-12.47.19-1536x1032-1.webp
END:VEVENT
BEGIN:VEVENT
DTSTART;TZID=Asia/Jakarta:20250704T110000
DTEND;TZID=Asia/Jakarta:20250704T130000
DTSTAMP:20260420T163535
CREATED:20250611T030653Z
LAST-MODIFIED:20250613T002645Z
UID:980-1751626800-1751634000@gmka.or.id
SUMMARY:Misa Yubileum & Sakramen Tobat
DESCRIPTION:Misa Yubileum & Sakramen Tobat di Pelataran Doa dan Ruang Serba Guna
URL:https://gmka.or.id/event/misa-yubileum-sakramen-tobat/
CATEGORIES:Yubileum
ATTACH;FMTTYPE=image/webp:https://gmka.or.id/wp-content/uploads/2025/06/Screenshot-2025-04-03-at-12.47.19-1536x1032-1.webp
END:VEVENT
END:VCALENDAR