BEGIN:VCALENDAR
VERSION:2.0
PRODID:-//gmka.or.id - ECPv6.15.18//NONSGML v1.0//EN
CALSCALE:GREGORIAN
METHOD:PUBLISH
X-WR-CALNAME:gmka.or.id
X-ORIGINAL-URL:https://gmka.or.id
X-WR-CALDESC:Events for gmka.or.id
REFRESH-INTERVAL;VALUE=DURATION:PT1H
X-Robots-Tag:noindex
X-PUBLISHED-TTL:PT1H
BEGIN:VTIMEZONE
TZID:Asia/Jakarta
BEGIN:STANDARD
TZOFFSETFROM:+0700
TZOFFSETTO:+0700
TZNAME:WIB
DTSTART:20240101T000000
END:STANDARD
END:VTIMEZONE
BEGIN:VEVENT
DTSTART;TZID=Asia/Jakarta:20250815T080000
DTEND;TZID=Asia/Jakarta:20250815T170000
DTSTAMP:20260420T160936
CREATED:20250613T000503Z
LAST-MODIFIED:20250613T002635Z
UID:1735-1755244800-1755277200@gmka.or.id
SUMMARY:Misa Perayaan HUT GMKA
DESCRIPTION:PERAYAAN HUT GMKA KE-71 di Pelataran Doa dan Ruang Serbaguna
URL:https://gmka.or.id/event/perayaan-hut-gmka/
LOCATION:GMKA\, Jl. Tentara Pelajar\, Kerep\, Panjang\, Ambarawa\, Jawa Tengah\, 50614\, Indonesia
CATEGORIES:Misa
ATTACH;FMTTYPE=image/webp:https://gmka.or.id/wp-content/uploads/2025/06/Misa-Bapa-Uskup_2.webp
ORGANIZER;CN="GMKA":MAILTO:cs@gmail.com
END:VEVENT
BEGIN:VEVENT
DTSTART;TZID=Asia/Jakarta:20250720T100000
DTEND;TZID=Asia/Jakarta:20250720T120000
DTSTAMP:20260420T160936
CREATED:20250611T031151Z
LAST-MODIFIED:20250611T031151Z
UID:991-1753005600-1753012800@gmka.or.id
SUMMARY:Misa HUT BPK-PKK KAS
DESCRIPTION:Misa HUT BPK-PKK KAS di Pelataran Doa
URL:https://gmka.or.id/event/misa-hut-bpk-pkk-kas/
LOCATION:Jawa Tengah
CATEGORIES:Misa
ATTACH;FMTTYPE=image/webp:https://gmka.or.id/wp-content/uploads/2025/06/Pelataran-Doa-02.webp
ORGANIZER;CN="GMKA":MAILTO:cs@gmail.com
END:VEVENT
BEGIN:VEVENT
DTSTART;TZID=Asia/Jakarta:20250625T200000
DTEND;TZID=Asia/Jakarta:20250625T220000
DTSTAMP:20260420T160936
CREATED:20250611T030238Z
LAST-MODIFIED:20250611T030238Z
UID:975-1750881600-1750888800@gmka.or.id
SUMMARY:Misa Malam 1 Suro
DESCRIPTION:Misa Malam 1 Suro di Pelataran Doa
URL:https://gmka.or.id/event/misa-malam-1-suro/
LOCATION:Jawa Tengah
CATEGORIES:Misa
ATTACH;FMTTYPE=image/webp:https://gmka.or.id/wp-content/uploads/2025/06/pelataramdoa03.webp
ORGANIZER;CN="GMKA":MAILTO:cs@gmail.com
END:VEVENT
BEGIN:VEVENT
DTSTART;TZID=Asia/Jakarta:20250616T190000
DTEND;TZID=Asia/Jakarta:20250616T210000
DTSTAMP:20260420T160936
CREATED:20250611T024603Z
LAST-MODIFIED:20250613T003704Z
UID:963-1750100400-1750107600@gmka.or.id
SUMMARY:Misa Malam Selasa Kliwon
DESCRIPTION:Misa Malam Selasa Kliwon di Ruang Serba Guna
URL:https://gmka.or.id/event/misa-malam-selasa-kliwon/
LOCATION:GMKA\, Jl. Tentara Pelajar\, Kerep\, Panjang\, Ambarawa\, Jawa Tengah\, 50614\, Indonesia
CATEGORIES:Misa
ATTACH;FMTTYPE=image/webp:https://gmka.or.id/wp-content/uploads/2025/06/pelataramdoa03.webp
ORGANIZER;CN="GMKA":MAILTO:cs@gmail.com
END:VEVENT
END:VCALENDAR